BEGIN:VCALENDAR
VERSION:2.0
PRODID:-//Alaska Democrats - ECPv6.15.20//NONSGML v1.0//EN
CALSCALE:GREGORIAN
METHOD:PUBLISH
X-WR-CALNAME:Alaska Democrats
X-ORIGINAL-URL:https://alaskademocrats.org
X-WR-CALDESC:Events for Alaska Democrats
REFRESH-INTERVAL;VALUE=DURATION:PT1H
X-Robots-Tag:noindex
X-PUBLISHED-TTL:PT1H
BEGIN:VTIMEZONE
TZID:America/Anchorage
BEGIN:DAYLIGHT
TZOFFSETFROM:-0900
TZOFFSETTO:-0800
TZNAME:AKDT
DTSTART:20220313T110000
END:DAYLIGHT
BEGIN:STANDARD
TZOFFSETFROM:-0800
TZOFFSETTO:-0900
TZNAME:AKST
DTSTART:20221106T100000
END:STANDARD
BEGIN:DAYLIGHT
TZOFFSETFROM:-0900
TZOFFSETTO:-0800
TZNAME:AKDT
DTSTART:20230312T110000
END:DAYLIGHT
BEGIN:STANDARD
TZOFFSETFROM:-0800
TZOFFSETTO:-0900
TZNAME:AKST
DTSTART:20231105T100000
END:STANDARD
BEGIN:DAYLIGHT
TZOFFSETFROM:-0900
TZOFFSETTO:-0800
TZNAME:AKDT
DTSTART:20240310T110000
END:DAYLIGHT
BEGIN:STANDARD
TZOFFSETFROM:-0800
TZOFFSETTO:-0900
TZNAME:AKST
DTSTART:20241103T100000
END:STANDARD
END:VTIMEZONE
BEGIN:VEVENT
DTSTART;TZID=America/Anchorage:20230617T110000
DTEND;TZID=America/Anchorage:20230617T170000
DTSTAMP:20260419T091922
CREATED:20230607T152302Z
LAST-MODIFIED:20230607T153041Z
UID:4912-1686999600-1687021200@alaskademocrats.org
SUMMARY:Alaska Black Caucus Juneteenth Health Fair
DESCRIPTION:ABC is hosting their annual Juneteenth Celebration on the Park-Strip\, Friday through Saturday\, June 16th through June 17th.\n\nThe HEALTH FAIR portion will take place Saturday\, June 17th from 12-6 PM and the Alaska Black Caucus is excited to partner by overseeing the health fair portion.
URL:https://alaskademocrats.org/event/alaska-black-caucus-juneteenth-health-fair/
LOCATION:Delaney Park Strip\, W 9th Avenue\, Anchorage\, Alaska\, 99501
END:VEVENT
END:VCALENDAR